BEGIN:VCALENDAR
VERSION:2.0
PRODID:-//SatNews - ECPv6.15.20//NONSGML v1.0//EN
CALSCALE:GREGORIAN
METHOD:PUBLISH
X-ORIGINAL-URL:https://satnews.com
X-WR-CALDESC:Events for SatNews
REFRESH-INTERVAL;VALUE=DURATION:PT1H
X-Robots-Tag:noindex
X-PUBLISHED-TTL:PT1H
BEGIN:VTIMEZONE
TZID:America/Denver
BEGIN:DAYLIGHT
TZOFFSETFROM:-0700
TZOFFSETTO:-0600
TZNAME:MDT
DTSTART:20190310T090000
END:DAYLIGHT
BEGIN:STANDARD
TZOFFSETFROM:-0600
TZOFFSETTO:-0700
TZNAME:MST
DTSTART:20191103T080000
END:STANDARD
BEGIN:DAYLIGHT
TZOFFSETFROM:-0700
TZOFFSETTO:-0600
TZNAME:MDT
DTSTART:20200308T090000
END:DAYLIGHT
BEGIN:STANDARD
TZOFFSETFROM:-0600
TZOFFSETTO:-0700
TZNAME:MST
DTSTART:20201101T080000
END:STANDARD
BEGIN:DAYLIGHT
TZOFFSETFROM:-0700
TZOFFSETTO:-0600
TZNAME:MDT
DTSTART:20210314T090000
END:DAYLIGHT
BEGIN:STANDARD
TZOFFSETFROM:-0600
TZOFFSETTO:-0700
TZNAME:MST
DTSTART:20211107T080000
END:STANDARD
END:VTIMEZONE
BEGIN:VEVENT
DTSTART;TZID=America/Denver:20201119T160000
DTEND;TZID=America/Denver:20201119T170000
DTSTAMP:20260424T042633
CREATED:20201112T173103Z
LAST-MODIFIED:20201112T173140Z
UID:10000741-1605801600-1605805200@satnews.com
SUMMARY:Meeting the quality challenge for flight test data in aircraft development and certification
DESCRIPTION:WEBINAR WILL BE RECORDED\n\n\nREGISTER\n\n\nWEBINAR OPENS IN\n6d 23h 31m 11s\n\n\n\nWEBINAR DETAILS\n\n\nWhen\n\n\nThu\, Nov 19\, 2020 at 8:00 AM\nPacific Time (US & Canada) (GMT -8:00)\n\n Add to calendar\n\n\n\n\n\n\nAbout\n\n\nJoin Aerospace Testing International and our panel of experts as we explore how to most effectively plan and implement test programs that produce the reliable and accurate data you need and regulatory authorities want. \nFrom managing flight schedules to specifying the smallest piece of test equipment\, every aspect of an aircraft’s test program needs to be carefully considered against the desired results in terms of producing reliable and high-quality data. The need for engineers to have knowledge across all testing domains and disciplines to enable this decision-making has only been reinforced by the ongoing pandemic. \nOn November 19\, the next in our series of high-level virtual roundtable discussions will feature Tom Bisges\, vice president of engineering from leading aircraft manufacturer Bombardier and Erik Goethert\, senior director of business development and strategic marketing at measurement and control systems supplier United Electronic Industries. \nThese leading experts will describe and discuss their market-leading approaches to flight testing\, which carefully balance cost and risk reduction with high safety standards – all while remaining focused on obtaining data that meets engineering development and certification requirements. \nUsing real-world examples from the latest civilian and defense test programs\, attendees to this exclusive event will learn how manufacturers and OEMs are partnering to develop the latest technology\, including more electric aircraft\, autonomous control systems and lighter\, more sustainable aircraft. \nOther topics to be explored include how to more closely integrate ground and flight testing to save time and costs\, as well as how to best extract meaningful information from the many Terabytes of data a comprehensive testing program now produces. \nSo make sure you join us for this free and exclusive online event by registering now\, and take part in a discussion which could shape your next testing program.
URL:https://satnews.com/event/meeting-the-quality-challenge-for-flight-test-data-in-aircraft-development-and-certification/
LOCATION:Virtual
CATEGORIES:VIRTUAL
END:VEVENT
END:VCALENDAR