BEGIN:VCALENDAR
VERSION:2.0
PRODID:-//SatNews - ECPv6.15.20//NONSGML v1.0//EN
CALSCALE:GREGORIAN
METHOD:PUBLISH
X-WR-CALNAME:SatNews
X-ORIGINAL-URL:https://satnews.com
X-WR-CALDESC:Events for SatNews
REFRESH-INTERVAL;VALUE=DURATION:PT1H
X-Robots-Tag:noindex
X-PUBLISHED-TTL:PT1H
BEGIN:VTIMEZONE
TZID:America/Denver
BEGIN:DAYLIGHT
TZOFFSETFROM:-0700
TZOFFSETTO:-0600
TZNAME:MDT
DTSTART:20200308T090000
END:DAYLIGHT
BEGIN:STANDARD
TZOFFSETFROM:-0600
TZOFFSETTO:-0700
TZNAME:MST
DTSTART:20201101T080000
END:STANDARD
BEGIN:DAYLIGHT
TZOFFSETFROM:-0700
TZOFFSETTO:-0600
TZNAME:MDT
DTSTART:20210314T090000
END:DAYLIGHT
BEGIN:STANDARD
TZOFFSETFROM:-0600
TZOFFSETTO:-0700
TZNAME:MST
DTSTART:20211107T080000
END:STANDARD
BEGIN:DAYLIGHT
TZOFFSETFROM:-0700
TZOFFSETTO:-0600
TZNAME:MDT
DTSTART:20220313T090000
END:DAYLIGHT
BEGIN:STANDARD
TZOFFSETFROM:-0600
TZOFFSETTO:-0700
TZNAME:MST
DTSTART:20221106T080000
END:STANDARD
END:VTIMEZONE
BEGIN:VEVENT
DTSTART;TZID=America/Denver:20210203T080000
DTEND;TZID=America/Denver:20210204T170000
DTSTAMP:20260424T052712
CREATED:20201216T180110Z
LAST-MODIFIED:20201216T180624Z
UID:10000743-1612339200-1612458000@satnews.com
SUMMARY:Joint Networks Summit
DESCRIPTION:Defense Strategies Institute’s 5th Annual Joint Networks Summit will be broadcast live this February 3-4\, 2021 from Alexandria\, Virginia. Register Here:https://dsigroup.org/joint-tactical-networks-summit/
URL:https://satnews.com/event/joint-networks-summit/
LOCATION:Virtual
CATEGORIES:VIRTUAL
ORGANIZER;CN="DSI":MAILTO:enoreika@dsigroup.org
END:VEVENT
END:VCALENDAR