BEGIN:VCALENDAR
VERSION:2.0
PRODID:-//SatNews - ECPv6.15.20//NONSGML v1.0//EN
CALSCALE:GREGORIAN
METHOD:PUBLISH
X-ORIGINAL-URL:https://satnews.com
X-WR-CALDESC:Events for SatNews
REFRESH-INTERVAL;VALUE=DURATION:PT1H
X-Robots-Tag:noindex
X-PUBLISHED-TTL:PT1H
BEGIN:VTIMEZONE
TZID:America/Denver
BEGIN:DAYLIGHT
TZOFFSETFROM:-0700
TZOFFSETTO:-0600
TZNAME:MDT
DTSTART:20190310T090000
END:DAYLIGHT
BEGIN:STANDARD
TZOFFSETFROM:-0600
TZOFFSETTO:-0700
TZNAME:MST
DTSTART:20191103T080000
END:STANDARD
BEGIN:DAYLIGHT
TZOFFSETFROM:-0700
TZOFFSETTO:-0600
TZNAME:MDT
DTSTART:20200308T090000
END:DAYLIGHT
BEGIN:STANDARD
TZOFFSETFROM:-0600
TZOFFSETTO:-0700
TZNAME:MST
DTSTART:20201101T080000
END:STANDARD
BEGIN:DAYLIGHT
TZOFFSETFROM:-0700
TZOFFSETTO:-0600
TZNAME:MDT
DTSTART:20210314T090000
END:DAYLIGHT
BEGIN:STANDARD
TZOFFSETFROM:-0600
TZOFFSETTO:-0700
TZNAME:MST
DTSTART:20211107T080000
END:STANDARD
END:VTIMEZONE
BEGIN:VEVENT
DTSTART;TZID=America/Denver:20200930T093000
DTEND;TZID=America/Denver:20200930T100000
DTSTAMP:20260424T070641
CREATED:20200915T231742Z
LAST-MODIFIED:20200916T120334Z
UID:10000694-1601458200-1601460000@satnews.com
SUMMARY:The Devil and the Deep Blue Sea: How Maritime Stakeholders Thrive in the Blue Economy
DESCRIPTION:Shipping and maritime has traditionally viewed itself as a self-contained industry made unique by the particular challenges of operating in the harsh marine environment. But today there is a pressing need to embrace technology and digitalization\, despite the attendant challenges. The interdependence of the maritime industry ecosystem has never been so exposed. Maritime stakeholders are in an unprecedented position to reap the rewards of ‘ecosystem thinking’ to fundamentally transform for the future of worldwide trade and travel. \nJoin us for an important webinar\, developed jointly with K D Adamson\, Futurist-in-Residence of Futurenautics. The Devil and the Deep Blue Sea | How Maritime Stakeholders Thrive in the Blue Economy will be held virtually on Wednesday\, September 30 at 9:30 am UTC / 11:30 am CET. \n\n\n\n\n\n\n\n\n\n\n\n\n\n\n\n\n\n\n\n\n\n\n\n\n\n\n\n\n\n\nPanelists representing connectivity\, shipping\, ports\, and logistics will join in discussion: \n\nFactors and challenges to realize complete network optimization within companies and across the maritime industry\nBlue Economy requirements that may limit doing things the ‘old way’ and how technology can help\nHow to collectively shift mindset toward transparency and resiliency by maritime businesses and organizations\nImmediate impacts and emerging opportunities of using technology to connect\, transform\, and create future growth supported by service providers and technology partners\n\nRegister here today!
URL:https://satnews.com/event/the-devil-and-the-deep-blue-sea-how-maritime-stakeholders-thrive-in-the-blue-economy/
LOCATION:Virtual
CATEGORIES:ST Engineering iDirect,VIRTUAL
ORGANIZER;CN="ST Engineering iDirect":MAILTO:info@idirect.net
END:VEVENT
END:VCALENDAR