BEGIN:VCALENDAR
VERSION:2.0
PRODID:-//SatNews - ECPv6.15.20//NONSGML v1.0//EN
CALSCALE:GREGORIAN
METHOD:PUBLISH
X-ORIGINAL-URL:https://satnews.com
X-WR-CALDESC:Events for SatNews
REFRESH-INTERVAL;VALUE=DURATION:PT1H
X-Robots-Tag:noindex
X-PUBLISHED-TTL:PT1H
BEGIN:VTIMEZONE
TZID:America/Denver
BEGIN:DAYLIGHT
TZOFFSETFROM:-0700
TZOFFSETTO:-0600
TZNAME:MDT
DTSTART:20190310T090000
END:DAYLIGHT
BEGIN:STANDARD
TZOFFSETFROM:-0600
TZOFFSETTO:-0700
TZNAME:MST
DTSTART:20191103T080000
END:STANDARD
BEGIN:DAYLIGHT
TZOFFSETFROM:-0700
TZOFFSETTO:-0600
TZNAME:MDT
DTSTART:20200308T090000
END:DAYLIGHT
BEGIN:STANDARD
TZOFFSETFROM:-0600
TZOFFSETTO:-0700
TZNAME:MST
DTSTART:20201101T080000
END:STANDARD
BEGIN:DAYLIGHT
TZOFFSETFROM:-0700
TZOFFSETTO:-0600
TZNAME:MDT
DTSTART:20210314T090000
END:DAYLIGHT
BEGIN:STANDARD
TZOFFSETFROM:-0600
TZOFFSETTO:-0700
TZNAME:MST
DTSTART:20211107T080000
END:STANDARD
END:VTIMEZONE
BEGIN:VEVENT
DTSTART;TZID=America/Denver:20200910T100000
DTEND;TZID=America/Denver:20200910T123000
DTSTAMP:20260424T161452
CREATED:20200902T124918Z
LAST-MODIFIED:20200902T124918Z
UID:10000631-1599732000-1599741000@satnews.com
SUMMARY:AVIA Future of Video India
DESCRIPTION:Within the Asian landscape\, India\, with a population of 1.3 billion\, has always been unique. After years of being one of the world’s most important Pay TV markets\, a new revolution is underway. While growth in television continues\, mobile internet is exploding and creating what could soon be one of the biggest video streaming markets. The entry of more than 30 streaming platforms in a span of barely three years speaks volume about the massive potential this industry has. As we head towards 2021\, we’ll take a deep dive into the trends the video streaming industry in India will see play out next year\, and what the key drivers of growth will be for both industry players and consumers in this market. \nConference Highlights \n\nIndia Video Trends\, Forecast and Statistics with the Impact of COVID-19\nSVOD vs AVOD Models: Battle for the Living Room\nThe Future of Video Streaming: How Technology is altering Business Practices\nIdeas that Scale: Localising Global Formats for the India Market\nConsumers and Content in a Mobile Economy\n\n\nSponsorship Opportunities\n\nContact Adela or Victor
URL:https://satnews.com/event/avia-future-of-video-india/
LOCATION:Virtu
CATEGORIES:VIRTUAL
ORGANIZER;CN="AVIA":MAILTO:adela@avia.org
END:VEVENT
END:VCALENDAR