BEGIN:VCALENDAR
VERSION:2.0
PRODID:-//SatNews - ECPv6.15.20//NONSGML v1.0//EN
CALSCALE:GREGORIAN
METHOD:PUBLISH
X-ORIGINAL-URL:https://satnews.com
X-WR-CALDESC:Events for SatNews
REFRESH-INTERVAL;VALUE=DURATION:PT1H
X-Robots-Tag:noindex
X-PUBLISHED-TTL:PT1H
BEGIN:VTIMEZONE
TZID:America/Los_Angeles
BEGIN:DAYLIGHT
TZOFFSETFROM:-0800
TZOFFSETTO:-0700
TZNAME:PDT
DTSTART:20250309T100000
END:DAYLIGHT
BEGIN:STANDARD
TZOFFSETFROM:-0700
TZOFFSETTO:-0800
TZNAME:PST
DTSTART:20251102T090000
END:STANDARD
BEGIN:DAYLIGHT
TZOFFSETFROM:-0800
TZOFFSETTO:-0700
TZNAME:PDT
DTSTART:20260308T100000
END:DAYLIGHT
BEGIN:STANDARD
TZOFFSETFROM:-0700
TZOFFSETTO:-0800
TZNAME:PST
DTSTART:20261101T090000
END:STANDARD
BEGIN:DAYLIGHT
TZOFFSETFROM:-0800
TZOFFSETTO:-0700
TZNAME:PDT
DTSTART:20270314T100000
END:DAYLIGHT
BEGIN:STANDARD
TZOFFSETFROM:-0700
TZOFFSETTO:-0800
TZNAME:PST
DTSTART:20271107T090000
END:STANDARD
END:VTIMEZONE
BEGIN:VEVENT
DTSTART;VALUE=DATE:20260526
DTEND;VALUE=DATE:20260529
DTSTAMP:20260425T071546
CREATED:20251122T001036Z
LAST-MODIFIED:20251122T003526Z
UID:10001131-1779753600-1780012799@satnews.com
SUMMARY:SmallSat Europe 2026
DESCRIPTION:SmallSat Europe 2025 set a new benchmark for Europe’s satellite industry\, drawing more than 1\,250 professionals to Amsterdam’s RAI Convention Centre for two days of insight\, innovation\, and high-value networking. SmallSat Europe 2026 returns to the RAI from May 26–28\, 2026\, with a significantly expanded format. The 2.5-day program will feature 180 exhibitors\, a broadened technical and commercial agenda\, and an expected 2\,000+ attendees\, making 2026 the largest and most comprehensive SmallSat Europe to date. Designed for industry leaders shaping next-generation space infrastructure\, the 2026 edition will deliver deeper briefings\, more curated networking\, and an unrivaled view of Europe’s rapidly evolving smallsat ecosystem.
URL:https://satnews.com/event/smallsat-europe-2026/
LOCATION:RAI\, Amsterdam
CATEGORIES:IN PERSON
ATTACH;FMTTYPE=image/jpeg:https://satnews.com/wp-content/uploads/2025/11/SmallSatEuro.jpg
END:VEVENT
END:VCALENDAR