BEGIN:VCALENDAR
VERSION:2.0
PRODID:-//SatNews - ECPv6.15.20//NONSGML v1.0//EN
CALSCALE:GREGORIAN
METHOD:PUBLISH
X-ORIGINAL-URL:https://satnews.com
X-WR-CALDESC:Events for SatNews
REFRESH-INTERVAL;VALUE=DURATION:PT1H
X-Robots-Tag:noindex
X-PUBLISHED-TTL:PT1H
BEGIN:VTIMEZONE
TZID:America/Los_Angeles
BEGIN:DAYLIGHT
TZOFFSETFROM:-0800
TZOFFSETTO:-0700
TZNAME:PDT
DTSTART:20240310T100000
END:DAYLIGHT
BEGIN:STANDARD
TZOFFSETFROM:-0700
TZOFFSETTO:-0800
TZNAME:PST
DTSTART:20241103T090000
END:STANDARD
BEGIN:DAYLIGHT
TZOFFSETFROM:-0800
TZOFFSETTO:-0700
TZNAME:PDT
DTSTART:20250309T100000
END:DAYLIGHT
BEGIN:STANDARD
TZOFFSETFROM:-0700
TZOFFSETTO:-0800
TZNAME:PST
DTSTART:20251102T090000
END:STANDARD
BEGIN:DAYLIGHT
TZOFFSETFROM:-0800
TZOFFSETTO:-0700
TZNAME:PDT
DTSTART:20260308T100000
END:DAYLIGHT
BEGIN:STANDARD
TZOFFSETFROM:-0700
TZOFFSETTO:-0800
TZNAME:PST
DTSTART:20261101T090000
END:STANDARD
END:VTIMEZONE
BEGIN:VEVENT
DTSTART;VALUE=DATE:20250912
DTEND;VALUE=DATE:20250916
DTSTAMP:20260423T052348
CREATED:20250309T234908Z
LAST-MODIFIED:20250309T234908Z
UID:10001090-1757635200-1757980799@satnews.com
SUMMARY:IBC 2025
DESCRIPTION:Bringing together the global media\, entertainment and technology community\, IBC2024 welcomed 45\,085 visitors from 170 countries to connect\, showcase and discover innovations\, tackle pressing industry challenges\, and explore new opportunities. Across a bustling show floor and packed theatres\, IBC2024 addressed critical trends and issues driving change across the media landscape while offering new show features\, such as the AI Tech Zone\, and IBC Talent Programme. Themes that took centre stage included AI\, fighting disinformation in news\, sustainability\, 5G\, cloud\, esports\, immersive experiences\, over-the-top (OTT) and streaming\, adtech\, metaverse\, edge computing\, the need to foster talent across the industry and many more. IBC will be back at the RAI\, Amsterdam from 12-15 September 2025.
URL:https://satnews.com/event/ibc-2025/
LOCATION:RAI\, Amsterdam
CATEGORIES:IN PERSON
END:VEVENT
END:VCALENDAR