BEGIN:VCALENDAR
VERSION:2.0
PRODID:-//SatNews - ECPv6.15.20//NONSGML v1.0//EN
CALSCALE:GREGORIAN
METHOD:PUBLISH
X-ORIGINAL-URL:https://satnews.com
X-WR-CALDESC:Events for SatNews
REFRESH-INTERVAL;VALUE=DURATION:PT1H
X-Robots-Tag:noindex
X-PUBLISHED-TTL:PT1H
BEGIN:VTIMEZONE
TZID:America/Los_Angeles
BEGIN:DAYLIGHT
TZOFFSETFROM:-0800
TZOFFSETTO:-0700
TZNAME:PDT
DTSTART:20240310T100000
END:DAYLIGHT
BEGIN:STANDARD
TZOFFSETFROM:-0700
TZOFFSETTO:-0800
TZNAME:PST
DTSTART:20241103T090000
END:STANDARD
BEGIN:DAYLIGHT
TZOFFSETFROM:-0800
TZOFFSETTO:-0700
TZNAME:PDT
DTSTART:20250309T100000
END:DAYLIGHT
BEGIN:STANDARD
TZOFFSETFROM:-0700
TZOFFSETTO:-0800
TZNAME:PST
DTSTART:20251102T090000
END:STANDARD
BEGIN:DAYLIGHT
TZOFFSETFROM:-0800
TZOFFSETTO:-0700
TZNAME:PDT
DTSTART:20260308T100000
END:DAYLIGHT
BEGIN:STANDARD
TZOFFSETFROM:-0700
TZOFFSETTO:-0800
TZNAME:PST
DTSTART:20261101T090000
END:STANDARD
END:VTIMEZONE
BEGIN:VEVENT
DTSTART;VALUE=DATE:20250917
DTEND;VALUE=DATE:20250918
DTSTAMP:20260425T060014
CREATED:20250807T134910Z
LAST-MODIFIED:20250808T134926Z
UID:10001113-1758067200-1758153599@satnews.com
SUMMARY:Space Innovation Summit (SPIN)
DESCRIPTION:Where Innovation Meets Opportunity\nThe Space Innovation Summit is where bold ideas\, cutting-edge technologies\, and entrepreneurial vision come together.\nTaking place on September 17\, 2025\, at the Hôtel du Collectionneur in Paris\, the\nSpace Innovation Summit is the premier gathering where bold ideas\, cutting-edge\ntechnologies\, and entrepreneurial vision come together.\nHeld in synergy with the World Space Business Week and Space Defense &amp;\nSecurity Summit\, this full-day event offers unmatched insight into the technologies\,\ntrends\, and partnerships shaping the next wave of space innovation.\nFrom startup pitches to fireside chats and expert panels\, the program connects\nfounders\, investors\, corporates\, and public institutions for a powerful exchange of\nideas. Attendees will explore breakthroughs in dual-use tech\, AI\, climate innovation\,\nin-orbit services\, and more – while enjoying curated networking moments and an\nexclusive awards ceremony celebrating the sector’s most promising ventures. \n\nRegister for SPIN: https://wsbw.com/registration/?utm_medium=mediapartner&utm_source=satnews&utm_campaign=registration
URL:https://satnews.com/event/space-innovation-summit-spin/
LOCATION:Hôtel du Collectionneur | Paris\, France
CATEGORIES:IN PERSON
ATTACH;FMTTYPE=image/png:https://satnews.com/wp-content/uploads/2025/08/SPIN_468x60px.png
END:VEVENT
BEGIN:VEVENT
DTSTART;VALUE=DATE:20250915
DTEND;VALUE=DATE:20250920
DTSTAMP:20260425T060014
CREATED:20250616T172902Z
LAST-MODIFIED:20250807T134051Z
UID:10001105-1757894400-1758326399@satnews.com
SUMMARY:World Space Business Week
DESCRIPTION:Bringing Together the World’s Industry Leaders\nThe World Space Business Week (WSBW) is the premier global event for the\nspace industry\, uniting 1\,600 decision-makers for a week of transformative\ndiscussions and high-stakes deal-making. With a legacy spanning 28 years\, WSBW\nhas become the definitive gathering for C-level executives to foster innovation\, build\npartnerships\, and shape the future of space business.\nWSBW 2025 Highlights\n• 1\,600 Industry Decision-Makers\n• 90% C-Level Attendees\n• 260+ Executive-Level Speakers\n• 110+ Partners &amp; Sponsors\n• 520+ Public and Private Organizations\n• Representation from 50+ Countries\n• Date: September 15–19\, 2025\n• Venue: Hôtel du Collectionneur | Paris\, France\n• Secure Your Spot: Register Now\nJoin the global leaders driving the space sector forward. Don’t miss your chance to\nbe part of the conversation! \n\nRegister for WSBW: https://wsbw.com?utm_medium=mediapartner&utm_source=satnews&utm_campaign=registration
URL:https://satnews.com/event/world-space-business-week/
LOCATION:Hôtel du Collectionneur | Paris\, France
CATEGORIES:IN PERSON
ATTACH;FMTTYPE=image/png:https://satnews.com/wp-content/uploads/2025/06/WSBW2025_Banner468x60.png
END:VEVENT
END:VCALENDAR