BEGIN:VCALENDAR
VERSION:2.0
PRODID:-//SatNews - ECPv6.15.20//NONSGML v1.0//EN
CALSCALE:GREGORIAN
METHOD:PUBLISH
X-WR-CALNAME:SatNews
X-ORIGINAL-URL:https://satnews.com
X-WR-CALDESC:Events for SatNews
REFRESH-INTERVAL;VALUE=DURATION:PT1H
X-Robots-Tag:noindex
X-PUBLISHED-TTL:PT1H
BEGIN:VTIMEZONE
TZID:America/New_York
BEGIN:DAYLIGHT
TZOFFSETFROM:-0500
TZOFFSETTO:-0400
TZNAME:EDT
DTSTART:20210314T070000
END:DAYLIGHT
BEGIN:STANDARD
TZOFFSETFROM:-0400
TZOFFSETTO:-0500
TZNAME:EST
DTSTART:20211107T060000
END:STANDARD
BEGIN:DAYLIGHT
TZOFFSETFROM:-0500
TZOFFSETTO:-0400
TZNAME:EDT
DTSTART:20220313T070000
END:DAYLIGHT
BEGIN:STANDARD
TZOFFSETFROM:-0400
TZOFFSETTO:-0500
TZNAME:EST
DTSTART:20221106T060000
END:STANDARD
BEGIN:DAYLIGHT
TZOFFSETFROM:-0500
TZOFFSETTO:-0400
TZNAME:EDT
DTSTART:20230312T070000
END:DAYLIGHT
BEGIN:STANDARD
TZOFFSETFROM:-0400
TZOFFSETTO:-0500
TZNAME:EST
DTSTART:20231105T060000
END:STANDARD
END:VTIMEZONE
BEGIN:VEVENT
DTSTART;VALUE=DATE:20220622
DTEND;VALUE=DATE:20220624
DTSTAMP:20260423T034019
CREATED:20220610T120946Z
LAST-MODIFIED:20220610T120946Z
UID:10000896-1655856000-1656028799@satnews.com
SUMMARY:MilSatCom USA
DESCRIPTION:SAE Media Group are proud to announce the 6th annual MilSatCom USA conference\, returning on 22nd-23rd June 2022. \nThis year’s forum will analyse several pressing topics including emerging US space policy\, SATCOM resiliency and redundancy\, USSF and US Army SATCOM acquisition plans\, and expeditionary SATCOM for the Warfighter.
URL:https://satnews.com/event/milsatcom-usa-2/
LOCATION:HILTON ARLINGTON 950 North Stafford Street\, Arlington VA\, Virginia\, USA
CATEGORIES:IN PERSON
END:VEVENT
END:VCALENDAR