BEGIN:VCALENDAR
VERSION:2.0
PRODID:-//SatNews - ECPv6.15.20//NONSGML v1.0//EN
CALSCALE:GREGORIAN
METHOD:PUBLISH
X-ORIGINAL-URL:https://satnews.com
X-WR-CALDESC:Events for SatNews
REFRESH-INTERVAL;VALUE=DURATION:PT1H
X-Robots-Tag:noindex
X-PUBLISHED-TTL:PT1H
BEGIN:VTIMEZONE
TZID:America/Denver
BEGIN:DAYLIGHT
TZOFFSETFROM:-0700
TZOFFSETTO:-0600
TZNAME:MDT
DTSTART:20200308T090000
END:DAYLIGHT
BEGIN:STANDARD
TZOFFSETFROM:-0600
TZOFFSETTO:-0700
TZNAME:MST
DTSTART:20201101T080000
END:STANDARD
BEGIN:DAYLIGHT
TZOFFSETFROM:-0700
TZOFFSETTO:-0600
TZNAME:MDT
DTSTART:20210314T090000
END:DAYLIGHT
BEGIN:STANDARD
TZOFFSETFROM:-0600
TZOFFSETTO:-0700
TZNAME:MST
DTSTART:20211107T080000
END:STANDARD
BEGIN:DAYLIGHT
TZOFFSETFROM:-0700
TZOFFSETTO:-0600
TZNAME:MDT
DTSTART:20220313T090000
END:DAYLIGHT
BEGIN:STANDARD
TZOFFSETFROM:-0600
TZOFFSETTO:-0700
TZNAME:MST
DTSTART:20221106T080000
END:STANDARD
END:VTIMEZONE
BEGIN:VEVENT
DTSTART;VALUE=DATE:20210127
DTEND;VALUE=DATE:20210129
DTSTAMP:20260425T071453
CREATED:20200818T171122Z
LAST-MODIFIED:20201013T134411Z
UID:10000681-1611705600-1611878399@satnews.com
SUMMARY:Mobile Deployable Communications Conference 2021
DESCRIPTION:SMi Group’s Mobile Deployable Communications conference will take place on 27th – 28th January 2021. \nMobile communications systems have become increasingly vital as militaries continue to deploy in degraded environments. And so\, as near-peer adversaries evolve and develop ever more complex electronic warfare technologies\, militaries must develop stronger and more resilient communications technology in order to withstand the challenges of our modern battlespace. \nWith this in mind\, Mobile Deployable Communications 2021 will bring together programme managers\, key decision-makers\, industry experts and thought leaders from Europe and beyond to explore the latest developments in communications technology. \nSupported by the Portuguese Army\, Mobile Deployable Communications is the only conference addressing CIS requirements in the European operational environment through briefs from key regional partners and their international allies. \nKey highlights: \n\nHear updates and guidance from CIS program managers and communications experts\nLearn about future requirements for equipment and procurement processes\nDiscover the latest communication technology to optimise battlefield command and control\nMeet and network with senior military leaders and industry during dedicated networking sessions across two days\n\nEarly bird discounts! \nRegister by 30th September to save £400\nRegister by 30st October to save £200\nRegister by 30th November to save £100
URL:https://satnews.com/event/mobile-deployable-communications-conference-2021/
LOCATION:Virtual
CATEGORIES:VIRTUAL
ORGANIZER;CN="SMi Group Ltd":MAILTO:events@smi-online.co.uk
END:VEVENT
END:VCALENDAR