BEGIN:VCALENDAR
VERSION:2.0
PRODID:-//SatNews - ECPv6.15.20//NONSGML v1.0//EN
CALSCALE:GREGORIAN
METHOD:PUBLISH
X-ORIGINAL-URL:https://satnews.com
X-WR-CALDESC:Events for SatNews
REFRESH-INTERVAL;VALUE=DURATION:PT1H
X-Robots-Tag:noindex
X-PUBLISHED-TTL:PT1H
BEGIN:VTIMEZONE
TZID:America/Denver
BEGIN:DAYLIGHT
TZOFFSETFROM:-0700
TZOFFSETTO:-0600
TZNAME:MDT
DTSTART:20190310T090000
END:DAYLIGHT
BEGIN:STANDARD
TZOFFSETFROM:-0600
TZOFFSETTO:-0700
TZNAME:MST
DTSTART:20191103T080000
END:STANDARD
BEGIN:DAYLIGHT
TZOFFSETFROM:-0700
TZOFFSETTO:-0600
TZNAME:MDT
DTSTART:20200308T090000
END:DAYLIGHT
BEGIN:STANDARD
TZOFFSETFROM:-0600
TZOFFSETTO:-0700
TZNAME:MST
DTSTART:20201101T080000
END:STANDARD
BEGIN:DAYLIGHT
TZOFFSETFROM:-0700
TZOFFSETTO:-0600
TZNAME:MDT
DTSTART:20210314T090000
END:DAYLIGHT
BEGIN:STANDARD
TZOFFSETFROM:-0600
TZOFFSETTO:-0700
TZNAME:MST
DTSTART:20211107T080000
END:STANDARD
END:VTIMEZONE
BEGIN:VEVENT
DTSTART;TZID=America/Denver:20201216T080000
DTEND;TZID=America/Denver:20201217T170000
DTSTAMP:20260421T073349
CREATED:20201016T205230Z
LAST-MODIFIED:20201029T205522Z
UID:10000727-1608105600-1608224400@satnews.com
SUMMARY:SIA’s Virtual DoD Commercial SATCOM Workshop
DESCRIPTION:SIA’s DoD Commercial SATCOM Workshop\, co-sponsored by U.S. Space Command**\, brings together government leaders from DoD Combatant Commands\, Services and Agencies as well as commercial satellite industry operators\, service providers\, integrators\, ground equipment suppliers\, and manufacturers. \nThe 2020 Workshop\, due to the COVID-19 pandemic\, will be held for 2 days\, December 16 and 17\, from a studio in Washington\, DC. \nOver 40 speakers from the military and industry will join together for a unique virtual event.  Attendees will be virtual but the Workshop will be hosted live in a studio in Washington\, DC by Tom Stroup\, SIA President. \nThis is the industry’s chance to join Government decision-makers\, for this important Virtual Workshop.\n**U.S. Space Command co-sponsorship of this event does not constitute federal endorsement of SIA or any other sponsors of this workshop. \nREGISTER\nIndustry Registration and Government/Military Registration – now open.\nDetails \nStart: \nDecember 16 @ 8:00 am EST (UTC-7) \nEnd: \nDecember 17 @ 5:00 pm EST (UTC-7)
URL:https://satnews.com/event/sias-virtual-dod-commercial-satcom-workshop/
LOCATION:Virtual
CATEGORIES:VIRTUAL
ATTACH;FMTTYPE=image/jpeg:https://satnews.com/wp-content/uploads/2020/10/DSI_Mktg20-DSW_468x60Oct27th_2.1.jpg
ORGANIZER;CN="SIA":MAILTO:https://www.dodsatcom.com/contact/
END:VEVENT
END:VCALENDAR