BEGIN:VCALENDAR
VERSION:2.0
PRODID:-//SatNews - ECPv6.15.20//NONSGML v1.0//EN
CALSCALE:GREGORIAN
METHOD:PUBLISH
X-ORIGINAL-URL:https://satnews.com
X-WR-CALDESC:Events for SatNews
REFRESH-INTERVAL;VALUE=DURATION:PT1H
X-Robots-Tag:noindex
X-PUBLISHED-TTL:PT1H
BEGIN:VTIMEZONE
TZID:America/Denver
BEGIN:DAYLIGHT
TZOFFSETFROM:-0700
TZOFFSETTO:-0600
TZNAME:MDT
DTSTART:20200308T090000
END:DAYLIGHT
BEGIN:STANDARD
TZOFFSETFROM:-0600
TZOFFSETTO:-0700
TZNAME:MST
DTSTART:20201101T080000
END:STANDARD
BEGIN:DAYLIGHT
TZOFFSETFROM:-0700
TZOFFSETTO:-0600
TZNAME:MDT
DTSTART:20210314T090000
END:DAYLIGHT
BEGIN:STANDARD
TZOFFSETFROM:-0600
TZOFFSETTO:-0700
TZNAME:MST
DTSTART:20211107T080000
END:STANDARD
BEGIN:DAYLIGHT
TZOFFSETFROM:-0700
TZOFFSETTO:-0600
TZNAME:MDT
DTSTART:20220313T090000
END:DAYLIGHT
BEGIN:STANDARD
TZOFFSETFROM:-0600
TZOFFSETTO:-0700
TZNAME:MST
DTSTART:20221106T080000
END:STANDARD
END:VTIMEZONE
BEGIN:VEVENT
DTSTART;TZID=America/Denver:20211020T130000
DTEND;TZID=America/Denver:20211020T170000
DTSTAMP:20260423T020309
CREATED:20210805T154926Z
LAST-MODIFIED:20210805T154926Z
UID:10000732-1634734800-1634749200@satnews.com
SUMMARY:Space legal\, regulatory and spectrum management issues
DESCRIPTION:This session will provide our attendees with the fundamentals of international and national regulations to be considered when implementing space projects (module 1). Based on these principles\, they will be driven through the regulatory specifics governing satellite-based communications (module 2) and Earth observation systems and services (module 3).  \nRegistration opens: August 1\, 2021 \nClosing date for registration: October 13\, 2021 \nDuration: 4 hours \nPrice: 500 € (Payment launched upon reaching the course ~ 10 attendees threshold) \nLanguage: English \nLecturer :\nFrans VON DER DUNK
URL:https://satnews.com/event/space-legal-regulatory-and-spectrum-management-issues/
LOCATION:Virtual
CATEGORIES:VIRTUAL
END:VEVENT
BEGIN:VEVENT
DTSTART;VALUE=DATE:20210118
DTEND;VALUE=DATE:20210120
DTSTAMP:20260423T020309
CREATED:20210107T153026Z
LAST-MODIFIED:20210107T153026Z
UID:10000748-1610928000-1611100799@satnews.com
SUMMARY:AIxSPACE: a first step towards the transformation of the space industry by artificial intelligence.
DESCRIPTION:The space industry is increasingly turning to artificial intelligence (AI) to push and redefine the boundaries of what is possible in space exploration. AIxSPACE\, an event dedicated to AI applications in the space industry\, has therefore been launched by Euroconsult and Innovitech\, experts in space and innovation respectively\, to address these challenges.  For this first edition\, the event will be held virtually on January 18 and 19\, 2021. \nAIxSPACE will seek to provide an in-depth analysis of five key applications of artificial intelligence designed to significantly improve the space industry. The event will focus on how AI will define a new era for space innovation when applied to the following themes: deep space exploration\, astronaut health\, earth observation\, satellite communications and connected aviation. \nApplications of artificial intelligence in aerospace are already visible\, while major space players are progressively integrating AI into their technologies. From autonomous decision making and predictive analysis to astronaut medical assistance\, AI defines itself as an intelligent assistant collaborating across the industry and these collaborations open the two niche networks to each other like never before. \nWith a roster of more than 30 national and international opinion leaders from a variety of industry\, government and academic backgrounds all working in the sector\, AIxSPACE will be a unique opportunity to find answers to some of the most complex challenges facing the industry. Speakers will include \n\nJean-Yves Le Gall\, President of the Centre National d’Études Spatiales in France\nLisa Campbell\, President of the Canadian Space Agency (CSA)\nChrister Fuglesang\, Astronaut and Space Advisor at SAAB\nDave Williams\, Astronaut and President and CEO of LeapBiosystems\nMike Greenley\, CEO of MDA\nRemi Duquette\, Vice President IA and Innovation\, Maya HTT\nGuy de Carufel\, Founder and CEO of Cognitive Space\nSamuel Foucher\, Principal Investigator – Remote Sensing Specialist for CRIM.\n\nA complete overview of the program\, as well as a detailed list of speakers at the event are available at https://aixspace.ca/.
URL:https://satnews.com/event/aixspace-a-first-step-towards-the-transformation-of-the-space-industry-by-artificial-intelligence/
LOCATION:Virtual
CATEGORIES:VIRTUAL
END:VEVENT
END:VCALENDAR