BEGIN:VCALENDAR
VERSION:2.0
PRODID:-//SatNews - ECPv6.15.20//NONSGML v1.0//EN
CALSCALE:GREGORIAN
METHOD:PUBLISH
X-ORIGINAL-URL:https://satnews.com
X-WR-CALDESC:Events for SatNews
REFRESH-INTERVAL;VALUE=DURATION:PT1H
X-Robots-Tag:noindex
X-PUBLISHED-TTL:PT1H
BEGIN:VTIMEZONE
TZID:America/Denver
BEGIN:DAYLIGHT
TZOFFSETFROM:-0700
TZOFFSETTO:-0600
TZNAME:MDT
DTSTART:20190310T090000
END:DAYLIGHT
BEGIN:STANDARD
TZOFFSETFROM:-0600
TZOFFSETTO:-0700
TZNAME:MST
DTSTART:20191103T080000
END:STANDARD
BEGIN:DAYLIGHT
TZOFFSETFROM:-0700
TZOFFSETTO:-0600
TZNAME:MDT
DTSTART:20200308T090000
END:DAYLIGHT
BEGIN:STANDARD
TZOFFSETFROM:-0600
TZOFFSETTO:-0700
TZNAME:MST
DTSTART:20201101T080000
END:STANDARD
BEGIN:DAYLIGHT
TZOFFSETFROM:-0700
TZOFFSETTO:-0600
TZNAME:MDT
DTSTART:20210314T090000
END:DAYLIGHT
BEGIN:STANDARD
TZOFFSETFROM:-0600
TZOFFSETTO:-0700
TZNAME:MST
DTSTART:20211107T080000
END:STANDARD
END:VTIMEZONE
BEGIN:VEVENT
DTSTART;TZID=America/Denver:20201007T113000
DTEND;TZID=America/Denver:20201007T130000
DTSTAMP:20260424T084634
CREATED:20200830T203511Z
LAST-MODIFIED:20200830T203511Z
UID:10000623-1602070200-1602075600@satnews.com
SUMMARY:Join AvL Technologies Senior VP Tony Wilkey for the Executive Market Forecast
DESCRIPTION:Join AvL Technologies Senior VP Tony Wilkey for the Executive Market Forecast – Ground Systems panel on Tuesday\, October 7th at 11:30am PDT / 2:30pm EDT. This important discussion takes place during the Satellite Innovation 2020 Virtual conference (registration required). \n  \nThe 2020 Satellite Industry Association state of the satellite industry report estimates a ground equipment market approaching $130 billion of the $271 billion global revenues. What are the most significant satellite specific developments in ground systems witnessed recently? What new capacities can be expected in the near future and what implication do those capacities have for the broader satellite industry? Join Tony\, the Ground Systems panel and the Satellite Innovation Symposium for this important discussion.
URL:https://satnews.com/event/join-avl-technologies-senior-vp-tony-wilkey-for-the-executive-market-forecast/
LOCATION:Virtual
CATEGORIES:VIRTUAL
END:VEVENT
END:VCALENDAR