BEGIN:VCALENDAR
VERSION:2.0
PRODID:-//SatNews - ECPv6.15.20//NONSGML v1.0//EN
CALSCALE:GREGORIAN
METHOD:PUBLISH
X-ORIGINAL-URL:https://satnews.com
X-WR-CALDESC:Events for SatNews
REFRESH-INTERVAL;VALUE=DURATION:PT1H
X-Robots-Tag:noindex
X-PUBLISHED-TTL:PT1H
BEGIN:VTIMEZONE
TZID:America/Los_Angeles
BEGIN:DAYLIGHT
TZOFFSETFROM:-0800
TZOFFSETTO:-0700
TZNAME:PDT
DTSTART:20250309T100000
END:DAYLIGHT
BEGIN:STANDARD
TZOFFSETFROM:-0700
TZOFFSETTO:-0800
TZNAME:PST
DTSTART:20251102T090000
END:STANDARD
BEGIN:DAYLIGHT
TZOFFSETFROM:-0800
TZOFFSETTO:-0700
TZNAME:PDT
DTSTART:20260308T100000
END:DAYLIGHT
BEGIN:STANDARD
TZOFFSETFROM:-0700
TZOFFSETTO:-0800
TZNAME:PST
DTSTART:20261101T090000
END:STANDARD
BEGIN:DAYLIGHT
TZOFFSETFROM:-0800
TZOFFSETTO:-0700
TZNAME:PDT
DTSTART:20270314T100000
END:DAYLIGHT
BEGIN:STANDARD
TZOFFSETFROM:-0700
TZOFFSETTO:-0800
TZNAME:PST
DTSTART:20271107T090000
END:STANDARD
END:VTIMEZONE
BEGIN:VEVENT
DTSTART;VALUE=DATE:20260210
DTEND;VALUE=DATE:20260213
DTSTAMP:20260425T070755
CREATED:20250901T164843Z
LAST-MODIFIED:20250901T234737Z
UID:10001114-1770681600-1770940799@satnews.com
SUMMARY:SmallSat Symposium 2026
DESCRIPTION:The Definitive SmallSat Business Conference\nGlobally recognized event that fosters innovation and collaboration within the SmallSat industry\, The SmallSat Symposium is returning to the Computer History Museum for 2026. For the past decade\, it has attracted top speakers\, leading space companies\, key decision-makers\, and innovators that are shaping the industry. Hosted in Silicon Valley\, SmallSat Symposium offers prime opportunities to learn from industry leaders\, gain valuable market insights\, and develop meaningful connections.
URL:https://satnews.com/event/smallsat-symposium-2026/
LOCATION:Computer History Museum\, Mountainview\, CA\, 1401 N Shoreline Blvd\, Mountain View\, CA\, 94043\, United States
CATEGORIES:IN PERSON
ATTACH;FMTTYPE=image/jpeg:https://satnews.com/wp-content/uploads/2025/09/SmallSatSympBr.jpg
END:VEVENT
END:VCALENDAR